BEGIN:VCALENDAR
VERSION:2.0
CALSCALE:GREGORIAN
PRODID:adamgibbons/ics
METHOD:PUBLISH
X-PUBLISHED-TTL:PT1H
BEGIN:VEVENT
UID:66xO9EpJp9DHuApSasDM3
SUMMARY:Delårsrapport 1 Januari - 30 juni 2026
DTSTAMP:20260420T171544Z
DTSTART:20260707T060000Z
DURATION:PT1H
END:VEVENT
END:VCALENDAR
